190.51651143099
0.0
0.0
-190.51651143099
1133095.2582557
5841904.7417443
