1016.9491525424
0.0
0.0
-1016.9491525424
1104508.4745763
6046491.5254237
