190.58295964126
0.0
0.0
-190.58295964126
1145095.2914798
5938904.7085202
