190.47619047619
0.0
0.0
-190.47619047619
1104095.2380952
6046904.7619048
