152.41320914479
0.0
0.0
-152.41320914479
1104076.2066046
6046923.7933954
