190.58423142371
0.0
0.0
-190.58423142371
1116095.2921157
6052904.7078843
